Workbook

Sheet 1三大件主板
A1: 宁乡联众电脑批发三大件及周边产品报价 2024-10-19
A2: 联系电话:0731-87896088 18908486298(彭国强) QQ:553688374 整机批发价: www.jsyzlw.com 手机看更方便
A3: 地址:宁乡县奥通电脑城负一楼 靠河边两空临街门面 免停车取货方便 三大件价格不稳定，做单先询价！
A4: 1. CPU | D4: 2 内存 | G4: 4主板
A5: I3 14100F 国原盒装 | B5: 655 | C5: 质保三年 | D5: 金士顿4G DDR4 2400/2666拆机 | E5: 70 | F5: 3年质保 | G5: 正品湖南行货，质量好售后快！
A6: I5 14600KF | B6: 1365 | C6: 质保三年 | D6: 金士顿8G DDR4 2400拆机 | E6: 78 | F6: 3年质保 | G6: 技嘉A320M-S2H AM4 | H6: 255 | I6: 3年质保
A7: I5 14600K | B7: 1655 | C7: 质保三年 | D7: 金士顿8G DDR4 2666 | E7: 88 | F7: 3年质保 | G7: 技嘉B450 AORUSM 小雕 | H7: 420 | I7: 3年质保
A8: I7 14700KF | B8: 2260 | C8: 质保三年 | D8: 金士顿8G DDR4 3200 | E8: 95 | F8: 3年质保 | G8: 技嘉B650M GAMING WIFI AM5 | H8: 770 | I8: 3年质保
A9: I9 14900KF | B9: 2480 | C9: 质保三年 | D9: 金士顿8G DDR4 3200神条 | E9: 118 | F9: 3年质保 | G9: 技嘉H110M-S2PH LPT COM HDMI PCI | H9: 480 | I9: 3年质保
A10: 英特尔I3 13100F | B10: 520 | C10: 3年散片 | D10: 金士顿8G DDR4 3600神条 | E10: 135 | F10: 3年质保 | G10: 技嘉H310M-D2VX工包 | H10: 380 | I10: 3年质保
A11: 英特尔I3 13100 | B11: 缺货 | C11: 3年散片 | D11: 金士顿16G DDR4 3200 | E11: 139 | F11: 3年质保 | G11: 技嘉B365M-D2VX | H11: 415 | I11: 3年质保
A12: 英特尔I5 13400F | B12: 900 | C12: 3年散片 | D12: 金士顿16G DDR4 3200神条 | E12: 195 | F12: 3年质保 | G12: 技嘉H410M-K 只有HDMI | H12: 360 | I12: 3年质保
A13: 英特尔I5 13400 | B13: 1100 | C13: 3年散片 | D13: 金士顿16G DDR4 3600神条 | E13: 205 | F13: 3年质保 | G13: 技嘉H410M S2 V2 支持WIN7 | H13: 385 | I13: 3年质保
A14: 英特尔I5 13490F 国原盒装 | B14: 1090 | C14: 3年国原 | D14: 金士顿4G/1600 DDRIII拆机 | E14: 18 | F14: 3年拆机 | G14: 技嘉H410M-H V2支持WIN7 | H14: 410 | I14: 3年质保
A15: 英特尔I5 13600KF | B15: 1375 | C15: 3年散片 | D15: 金士顿8G/1600 DDRIII拆机 | E15: 55 | F15: 3年拆机 | G15: 技嘉H510M-H 支持I5 11代 | H15: 425 | I15: 3年质保
A16: 英特尔I5 13700F | B16: 2050 | C16: 3年散片 | D16: 雷克沙-8G 2666 D4 台式机 | E16: 90 | F16: 3年质保 | G16: 技嘉B760M-D2H DDR4 | H16: 610 | I16: 3年质保
A17: 英特尔I7 13700KF | B17: 1990 | C17: 3年散片 | D17: 雷克沙-8G 3200 D4 台式机 | E17: 90 | F17: 终身质保 | G17: 技嘉B760M GAMING AC DDR4带WIFI | H17: 740 | I17: 3年质保
A18: intel-12代-G7400 | B18: 450 | C18: 3年散片 | D18: 雷克沙-16G 3200 D4 台式机 | E18: 150 | F18: 终身质保 | G18: 技嘉B660M-D2H DDR4 | H18: 580 | I18: 3年质保
A19: 酷睿I3 12100 | B19: 623 | C19: 3年散片 | D19: 雷克沙-雷神铠16G 3600 D4 白色马甲条 台式机 | E19: 205 | F19: 终身质保 | G19: 技嘉H610M S2 (VGA) | H19: 440 | I19: 3年质保
A20: 酷睿I3 12100F | B20: 350 | C20: 3年散片 | D20: 雷克沙-雷神铠16G 6000 D5 | E20: 320 | F20: 终身质保 | G20: 技嘉H610M K (HDMI) | H20: 415 | I20: 3年质保
A21: 酷睿12 I5 12400F | B21: 625 | C21: 3年散片 | D21: 雷克沙-战神之刃32G 6800(16G*2) D5灯条 C34 海力士A Die台式机 | E21: 755 | F21: 3年换新 | G21: 技嘉H610M H (HDMI+VGA) | H21: 460 | I21: 3年质保
A22: I5 12400 | B22: 775 | C22: 3年散片 | D22: 昂达 8G DDR3 1600 | E22: 38 | F22: 3年质保 | G22: 技嘉Z790 D DDR5大板 | H22: 1270 | I22: 3年质保
A23: 酷睿12 I5 12400F 国原盒装 | B23: 920 | C23: 质保三年 | D23: 麦光 8G DDR3 1600 笔记本内存 | E23: 55 | F23: 3年质保 | G23: 微星 B150M | H23: 299 | I23: 3年质保
A24: I5-12490F 国原盒装 | B24: 680 | C24: 3年国原 | D24: 3 硬盘 U盘 移动硬盘 | G24: 微星B365M MORTAR迫击炮 | H24: 570 | I24: 3年质保
A25: I5 12600KF | B25: 1040 | C25: 3年散片 | D25: 雷克沙 NS100 128G(2.5寸550M/S) | E25: 90 | F25: 3年换新 | G25: 微星 B365M WIND（HDMI） | H25: 345 | I25: 3年质保
A26: 酷睿12 I7 12700F | B26: 1410 | C26: 3年散片 | D26: 雷克沙 NS100 256G(2.5寸550M/S) 足容量非阉割 | E26: 139 | F26: 3年换新 | G26: 微星 Z370 GAMING PlUS | H26: 795 | I26: 3年质保
A27: 酷睿12 I7 12700 | B27: 1535 | C27: 3年散片 | D27: 雷克沙 NS100 512G(2.5寸550M/S) | E27: 210 | F27: 3年换新 | G27: 微星H610M-E | H27: 445 | I27: 3年质保
A28: 酷睿I7 12700KF | B28: 1450 | C28: 3年散片 | D28: 雷克沙 NM620 Pro 256G M.2 NVME(3300M/S) | E28: 150 | F28: 5年换新 | G28: 微星B760M BOMBER | H28: 630 | I28: 3年质保
D29: 雷克沙 NM620 Pro 512G M.2 NVME(3300M/S) | E29: 235 | F29: 5年换新 | G29: 微星H410M-E(DVI VGA HDMI三接口) | H29: 410 | I29: 3年质保
A30: 酷睿17 12700K | B30: 1535 | C30: 3年散片 | D30: 雷克沙 NM620 Pro 1TB M.2 NVME(3300M/S) | E30: 365 | F30: 5年换新 | G30: 微星H410M BOMBER) | H30: 420 | I30: 3年质保
A31: I9 12900KF 全新 散质保3年 | B31: 1940 | C31: 订货 | G31: 微星H410M PRO-C(DP DVI VGA HDMI四接口) | H31: 435 | I31: 3年质保
A32: 酷睿12 I9 12900K 全新 散质保3年 | B32: 2040 | C32: 订货 | G32: 微星B460M MORTAR WIFI | H32: 510 | I32: 3年质保
A33: 10代赛扬 G5900国原盒装正品 | B33: 198 | C33: 3年散片 | D33: 雷克沙 NQ790 1TB M.2 NVME(PCIe 4.0/7000M/S)电商专供 | E33: 415 | F33: 5年换新 | G33: 微星B450M MORTAR 迫击炮 | H33: 500 | I33: 3年质保
A34: 10代赛扬 G5905 散片 | B34: 230 | C34: 3年散片 | D34: 七彩虹SL300 128G | E34: 78 | F34: 3年换新 | G34: 微星B460M MORTAR 迫击炮 | H34: 500
A35: 10代奔腾 G6405 4.1G国原盒装正品 | B35: 390 | C35: 3年国原 | D35: 七彩虹SL500 360G | E35: 130 | F35: 3年换新 | G35: 华硕圣旗H410M-D3H(支持WIN7) | H35: 415 | I35: 3年质保
A36: 英特尔 G6405 | B36: 375 | C36: 1年散片 | D36: 七彩虹CN256G NVME | E36: 129 | F36: 3年换新 | G36: 华硕圣旗H510M-D3H (DVI+VGA+M.2) | H36: 415 | I36: 3年质保
A37: 英特尔I3-10105F | B37: 353 | C37: 1年散片 | D37: 七彩虹CN512G NVME | E37: 230 | F37: 3年换新 | G37: 华硕圣旗B460M | H37: 450 | I37: 3年质保
A38: 英特尔I3-10105F国原盒装正品 | C38: 3年国原 | D38: 昂达 128G固态硬盘 | E38: 75 | F38: 3年质保 | G38: 华硕圣旗H310M-D3V | H38: 335 | I38: 3年质保
A39: 英特尔I3-10105 | B39: 578 | C39: 1年散片 | D39: 昂达 256G固态硬盘 | E39: 100 | F39: 3年质保 | G39: 华硕H310M-F | H39: 345 | I39: 3年质保
A40: 英特尔I3-10105国原 | B40: 630 | C40: 3年国原 | D40: 昂达 256G固态硬盘 NVME | E40: 115 | F40: 3年质保 | G40: 华硕H510M-K
...

Sheet 2显示器机箱电源
A1: 5 机箱 | D1: 7显示器 | G1: 8 显卡
A2: 昂达超小机箱 | B2: 50 | C2: 3年质保 | D2: 长城GreatWall 21.5寸 V2243WS | E2: 350 | F2: 3年质保 | G2: 七彩虹GT710 2G (VGA+HDMI+DVI带风扇) | H2: 195 | I2: 3年质保
A3: 微星USB3.0小机箱 | B3: 50 | C3: 3年质保 | D3: 长城GreatWall 23.8寸 24V1 | E3: 395 | F3: 3年质保 | G3: 七彩虹GT730 4G D3黄金版 | I3: 3年质保
A4: 航嘉 百盛 好梦来机箱 | B4: 50 | C4: 3年质保 | D4: 长城23.8寸显示器/241F3HIFJT8 | E4: 410 | F4: 3年质保 | G4: 七彩虹GTX1030 2G | H4: 400 | I4: 3年质保
A5: 航嘉402提手机箱(3个USB接口) | B5: 65 | C5: 3年质保 | D5: 长城GreatWall 27 271F3HIF | E5: 575 | F5: 3年质保 | G5: 七彩虹GTX1030 黄金版 4G | H5: 445 | I5: 3年质保
A6: 航嘉大机箱 | B6: 105 | C6: 3年质保 | D6: HKC P208H 19.5 VGA+HDMI | F6: 3年质保 | G6: 七彩虹GTX1630 4G | I6: 3年质保
A7: USB2.0机箱 | B7: 55 | C7: 3年质保 | D7: HKC V2210 21.5 | E7: 320 | F7: 3年质保 | G7: 七彩虹1650 4G | I7: 3年质保
A8: USB2.0标准机箱 | B8: 57 | C8: 3年质保 | D8: HKC V2411SE 23.8黑色无边框VGA | E8: 375 | F8: 3年质保 | G8: 七彩虹RTX3050 6G 灵动鲨 | H8: 1315 | I8: 3年质保
A9: 长城USB2.0机箱 | B9: 57 | C9: 3年质保 | D9: HKC S24M 23.8无边 VGA+HDMI | E9: 389 | F9: 3年质保 | G9: 七彩虹RTX3050 6G 战斧 | H9: 1325 | I9: 3年质保
A10: 长城USB3.0机箱(3个USB接口) | B10: 63 | C10: 3年质保 | D10: HKC V2412 23.8无边 VGA+HDMI | E10: 389 | F10: 3年质保 | G10: 七彩虹RTX3050 8G 战斧 | H10: 1480 | I10: 3年质保
A11: 长城M50 大机箱(3个USB接口) | B11: 95 | C11: 3年质保 | D11: HKC VG255 SE 100Hz 23.8无边IPS | F11: 3年质保 | G11: 七彩虹RTX3060 8G战斧 订货 | H11: 1780 | I11: 3年质保
A12: AOC 小机箱 | B12: 55 | C12: 3年质保 | D12: HKC C240 23.8曲面 | E12: 445 | F12: 3年质保 | G12: 七彩虹RTX4060 8G战斧 | H12: 2140 | I12: 3年质保
A13: AOC 提手机箱 | B13: 72 | C13: 3年质保 | D13: HKC S2716 27 100Hz无边框 99%高色域 | E13: 530 | F13: 3年质保 | G13: 七彩虹RTX4060 8G战斧豪华版 订货 | H13: 2210 | I13: 3年质保
A14: AOC 标准机箱 | B14: 65 | C14: 3年质保 | D14: HKC V2717M 27 100Hz无边框99%高色域 | E14: 530 | F14: 3年质保 | G14: 七彩虹RTX4060TI 8G | I14: 3年质保
A15: 先马 商英 机箱 | B15: 68 | C15: 3年质保 | D15: HKC IG27 1K 180Hz 27 无边框IPS | E15: 680 | F15: 3年质保 | G15: 七彩虹RTX4060TI 16G | H15: 3290 | I15: 3年质保
A16: 先马工匠5 黑机箱 | B16: 98 | C16: 3年质保 | D16: HKC IG27Q | E16: 735 | F16: 3年质保 | G16: 七彩虹 战斧 RTX4070 豪华版 12GD6 | H16: 4150 | I16: 3年质保
A17: 6 电源 | D17: HKC SG27C 144Hz曲面 | E17: 735 | F17: 3年质保 | G17: 七彩虹RTX4070TiSUPER Ultra w0C(16G) | H17: 6280 | I17: 3年质保
A18: 长城电源 | D18: HKC SG27QC 2K 144Hz曲面 | E18: 920 | F18: 3年质保 | G18: 七彩虹RTX4080SUPER显卡/16G(iGame ultra w 0C) | H18: 9170 | I18: 3年质保
A19: 长城GW-4000SW 额定300W 宽辐 | B19: 125 | C19: 3年质保 | D19: HKC IG27Q NEW2 2K平面 170HZ | E19: 820 | F19: 3年质保 | G19: 影驰GTX1030 4G DDR5 | H19: 480 | I19: 3年质保
A20: 长城ATX-3002 额定220W 宽辐 | B20: 80 | C20: 3年质保 | D20: HKC GX329QN 32曲面2K 144HZ | E20: 1250 | F20: 3年质保 | G20: 影驰GTX1630 4G 现货 | I20: 3年质保
A21: 长城ATX-3000 额定220W 宽辐 | B21: 75 | C21: 3年质保 | D21: AOC E22E1 21.5 | E21: 390 | F21: 3年质保 | G21: 影驰GTX1050 Ti 4G 骁将 订货 | I21: 3年质保
A22: 长城ATX-3002 额定220W 宽辐 | B22: 80 | C22: 3年质保 | D22: AOC 24E11HM(23.8无边)商用显示器 | E22: 440 | F22: 3年质保 | G22: 影驰GTX1650 4G | I22: 3年质保
A23: 长城3000+ 宽幅节能220W-300W | B23: 100 | C23: 3年质保 | D23: AOC 24E10XH 23.8IPS无边框显示器 | E23: 450 | F23: 3年质保 | G23: 影驰RTX3050 6G | H23: 1255 | I23: 3年质保
A24: 长城3600 285W-350W | B24: 125 | C24: 3年质保 | D24: AOC 24E2HM(23.8无边)商用显示器 | E24: 535 | F24: 3年质保 | G24: 影驰RTX3060 12G骁将 | I24: 3年质保
A25: 长城400SD静音大师300W-400W | B25: 125 | C25: 3年质保 | D25: AOC Q27E12 2K 27 无边框 | E25: 785 | F25: 3年质保 | G25: 影驰RTX4060大将 白色双风扇 现货 | I25: 3年质保
A26: 长城4500AD 350W-450W | B26: 140 | C26: 3年质保 | D26: AOC E27E12HM 27无边框显示器 | E26: 560 | F26: 3年质保 | G26: 影驰RTX4060大将 黑色双风扇 现货 | H26: 2080 | I26: 3年质保
A27: 长城500SE 400W-500W | B27: 180 | C27: 3年质保 | D27: 飞利浦21.5(223V5LSB)无边框HDMI+VGA | E27: 435 | F27: 3年质保 | G27: 影驰RTX4070星曜 12G 订货 | I27: 3年质保
A28: 长城GW-600ZN静音 500-600W | B28: 205 | C28: 3年质保 | D28: 飞利浦24E2N1100 | E28: 440 | F28: 3年质保 | G28: 影驰RTX4070TI金属大师 | I28: 3年质保
A29: 长城 GW-6800(90+)额定600W | B29: 399 | C29: 3年质保 | D29: 飞利浦27E2N1100 27寸无边 | E29: 550 | F29: 3年质保 | G29: RTX4090 二十周年纪念版 | I29: 3年质保
A30: 长城额定650W | B30: 280 | C30: 3年质保 | D30: 飞利浦24B2N2100 23.8IPS 100HZ防蓝光认证 | E30: 450 | F30: 3年质保
A31: 长城额定750W | B31: 305 | C31: 3年质保 | D31: 飞利浦27B2N2100 27IPS 100HZ防蓝光认证 | E31: 565 | F31: 3年质保 | G31: 技嘉GT710 2G (VGA+HDMI+DVI带风扇) | H31: 205 | I31: 3年质保
A32: 长城额定650W G6全模组80PLUS铜牌 | B32: 420 | C32: 3年质保 | D32: 飞利浦275S9LRB 27 2K升降旋转屏 | E32: 830 | F32: 3年质保 | G32: 华硕1030 2G DDR5 | I32: 2年质保
A33: 航嘉电源 | C33: 3年质保 | D33: 飞利浦241V8L6 23.6无边框 | E33: 485 | F33: 3年质保 | G33: 华硕TUF-GTX1660S-06G-GAMING | I33: 2年质保
A34: 航嘉宽辐电源 180W-280W | B34: 75 | C34: 3年质保 | D34: 飞利浦241V8L 23.8无边框 | E34: 490 | F34: 3年质保 | G34: 华硕RTX3060 12G | I34: 2年质保
A35: 航嘉冷静王加强版 270W-350W | B35: 135 | C35: 3年质保 | D35: 飞利浦241V8B 23.8无边框IPS 100HZ | E35: 510 | F35: 3年质保 | G35: 2000元显卡一般要订货,当天行情为准 | I35: 2年质保
A36: 航嘉GS400 300W-400W | B36: 128 | C36: 3年质保 | D36: 飞利浦271E1CS 曲面27 | E36: 850 | F36: 3年质保 | G36: 微星710 1G | I36: 2年质保
A37: 航嘉GS500 400W-500W | B37: 170 | C37: 3年质保 | D37: 飞利浦271V8 27无边框 | F37: 3年质保 | G37: 微星GTX1660S 6G | I37: 2年质保
A38: 航嘉GS600 500W-600W | B38: 185 | C38: 3年质保 | D38: 飞利浦271V8B 27无边框 100Hz | E38: 590 | F38: 3年质保 | G38: 微星RX6500XT MECH 2X 4G OC | H38: 995 | I38: 2年质保
A39: 航嘉GS700 600W-700W | B39: 248 | C39: 3年质保 | D39: 飞利浦271E9 27无边框 IPS金属底座 | E39: 820 | F39: 3年质保 | G39: 微星RTX3050 VENTUS 2X 8G OC | I39: 2年质保
A40: 航嘉GS805 650W-750W | B40: 305 | C40: 3年质保 | D40: 飞利浦271V8W 27白色 HDMI无边** | E40: 659 | F40: 3年质保 | G40: GV-N3050GAMING OC-8GD 三风扇 | I40: 2年质保
...

Sheet 3网络设备 
A1: 网络产品型号 | B1: 价格 | C1: 京东价 | D1: 利润 | F1: TP-LINK监控产品
A2: 锐捷RG-EW1300G 5天线双频路由器 全千兆 | B2: 129 | C2: 199 | D2: =C2-B2 -> 70
A3: 锐捷RG-EW3000GX 千兆WIFI6 | B3: 179 | C3: 459 | D3: =C3-B3 -> 280 | F3: TP-LINK TL-IPC43AN-4GE 4G室内摄相头 4G流量卡 | G3: 190
A4: 锐捷RG-EW3000GX PRO | B4: 285 | C4: 499 | D4: =C4-B4 -> 214 | F4: TP-LINK TL-IPC632-A4GE 4G流量卡 | G4: 170
A5: 锐捷 RG-EW3200GX 3200兆双频WIFI6无线路器 8天线 | B5: 369 | C5: 599 | D5: =C5-B5 -> 230 | F5: TP-LINK TL-IPC642-A4GE 4G流量卡 | G5: 188
A6: 锐捷 M18 | B6: 295 | C6: 499 | D6: =C6-B6 -> 204 | F6: TP-LINK TL-IPC683-AEZ 800万双天线室外球机 | G6: 390
A7: 锐捷 RG-EG105GW-E 5天线企业WIFI6路由 带机100台 | B7: 495 | C7: 925 | D7: =C7-B7 -> 430 | E7: 1775M企业级Wi-Fi 6无线网关，金属壳体，共有5个千兆电口（最高支持4WAN接入），支持1000M外网带宽，最大支持100台终端，最大支持无线接入速率1775Mbps，支持802.11a/b/g/n/ac Wave1/Wave2/ax协议，支持睿易APP组网特性，可以与AP自组网漫游 | F7: TP-LINK TL-IPC546F-W4 | G7: 140 | H7: 400W 插卡
A8: 锐捷RG-EG105G V2 铁壳设计，带机量100台，支持600M带宽，5个千兆电口，1个固化WAN口，1个LAN/WAN可切换口，3个固化LAN口，集成AC功能，可管理32台睿易系列AP。 | B8: 252 | C8: 540 | D8: =C8-B8 -> 288 | F8: TP-LINK TL-IPC548M-AI4 DC款全彩星光警戒 | G8: 148 | H8: 400W 插卡 POE
A9: 锐捷RG-ES05 5口百兆塑壳交换机 | B9: 42 | C9: 75 | D9: =C9-B9 -> 33 | F9: TP-LINK TL-IPC548MP-AI4 POE+DC款全彩星光警戒 | G9: 156 | H9: 400W 插卡 POE
A10: 锐捷RG-ES08 8口百兆塑壳交换机 | B10: 58 | C10: 105 | D10: =C10-B10 -> 47 | F10: TL-IPC544E-AI4 400万枪机 对讲款 | G10: 144 | H10: 400W 插卡
A11: 锐捷RG-ES05G 5口千兆塑壳交换机 | B11: 72 | C11: 150 | D11: =C11-B11 -> 78 | F11: TL-IPC544EP-AI4 400万PoE双光警戒网络摄像机 | G11: 152 | H11: 400W 插卡 POE
A12: 锐捷RG-ES08G 8口千兆塑壳交换机 | B12: 105 | C12: 205 | D12: =C12-B12 -> 100 | F12: TP-LINK TL-IPC43CL-4全彩 300W小球室内机 | G12: 110 | H12: 400W 插卡
A13: 锐捷RG-ES105D 5口百兆铁壳交换机 | B13: 58 | C13: 105 | D13: =C13-B13 -> 47 | F13: TP-LINK TL-IPC44CL-4全彩 400W小球室内机 | G13: 120 | H13: 400W 插卡
A14: 锐捷RG-ES108D 8口百兆铁壳交换机 | B14: 73 | C14: 140 | D14: =C14-B14 -> 67 | F14: TP TL-IPC44K全彩摇头机 | G14: 185
A15: 锐捷RG-ES105GD 5口千兆铁壳交换机 | B15: 88 | C15: 190 | D15: =C15-B15 -> 102 | F15: TP-LINK TL-IPC652-A4 500W无线室外球机 | G15: 185 | H15: 500W室外球机
A16: 锐捷RG-ES108GD 8口千兆铁壳交换机 | B16: 119 | C16: 280 | D16: =C16-B16 -> 161 | F16: TP-LINK TL-IPC652P-A4 500W室外球机POE | G16: 185 | H16: 500W室外球机
A17: TL-WDR5666易展版 四天线双频路由器 | B17: 112 | C17: 159 | D17: =C17-B17 -> 47 | E17: 黑色 | F17: TP-LINK TL-IPC642D-A4 400W无线室外球机 | G17: 158 | H17: 400W室外球机
A18: TL-WDR5620易展版 4根天线 | B18: 89 | C18: 129 | D18: =C18-B18 -> 40 | E18: 白色 | F18: TP-LINK TL-IPC642DP-A4 400W室外球机POE | G18: 161 | H18: 400W室外球机 POE
A19: TL-WDR5626千兆易展版 4根天线 | B19: 125 | C19: 159 | D19: =C19-B19 -> 34 | E19: 黑色 | F19: TL-IPC643-A4 400万全彩星光室外双频无线球机 | G19: 255 | H19: 400万全彩星光室外双频无线球机
A20: TL-WDR7661千兆易展版 AC1900 6根天线 | B20: 168 | C20: 219 | D20: =C20-B20 -> 51 | F20: TL-IPC689-A4 双400W摄相头监控枪球一体 | G20: 235 | H20: 无线，全彩 球机
A21: TL-XDR3050易展版 AX3000双频千兆Wi-Fi6路由器 | B21: 238 | C21: 289 | D21: =C21-B21 -> 51 | E21: 陈列天线 | F21: TL-IPC689P-A4 双400W摄相头监控枪球一体 | G21: 240 | H21: 无线，全彩 球机
A22: TL-XDR3068易展Turbo版无线大户型商用路由WIFI6 | B22: 340 | C22: 599 | D22: =C22-B22 -> 259 | E22: 京东价569 | F22: TP-LINK TL-IPC646-A4 400W室外球机 | G22: 345
A23: TP-LINK TL-R473G企业铁路由器 | B23: 215 | C23: 349 | D23: =C23-B23 -> 134 | F23: TP-LINK TL-IPC646P-A4 400W室外POE | G23: 330
A24: TP-LINK TL-R470GP-AC 千兆POE路由器 | B24: 270 | C24: 415 | D24: =C24-B24 -> 145 | E24: 带机15台 | F24: TL-IPC646E-WB4 水滴形黑光球机 | G24: 302
A25: TP-LINK TL-R479GP-AC 千兆POE路由器 | B25: 420 | C25: 669 | D25: =C25-B25 -> 249 | E25: 8口POE供电 | F25: TL-IPC636三目变焦版 10X混合变焦300万 | G25: 498
A26: TP-LINK TL-R476G 千兆路由器 | B26: 305 | C26: 429 | D26: =C26-B26 -> 124 | E26: 带机80-100台 | F26: TL-NVR6108K-L录相机 | G26: 145 | H26: 8路全4K录相机
A27: TL-ER3220G双核多WAN千兆企业路由 | B27: 520 | C27: 699 | D27: =C27-B27 -> 179 | E27: 带机量300台左右 | F27: TL-NVR6108C-B录相机 | G27: 125
A28: TL-ER3200G双核多WAN千兆企业路由 | B28: 375 | E28: 带机量300台左右 | F28: TL-NVR6216-L录相机 16路 2硬盘位 | G28: 265
A29: TP-LINK 3239 （PCI网卡） | B29: 19 | F29: TL-IPC544E-W4 | G29: 132
A30: TP TL-SF1005+ 5口 百M交换机 | B30: 35 | F30: TL-IPC544EP-W4 | G30: 140
A31: TP TL-SF1008+ 8口 百M交换机 | B31: 48 | F31: TL-IPC445EP-W2.8 | G31: 140
A32: TP-LINK TL-SF1005SP 4口塑壳POE交换? | F32: TL-IPC544E-WB4 | G32: 200
A33: TP TL-SG1005+ 5口 千兆交换机 | B33: 55 | F33: TL-IPC544EP-WB4 | G33: 210
A34: TP TL-SG1008+ 8口 千兆交换机 | B34: 77 | F34: TP TL-IPC546MP双目变焦版全彩星光POE枪机TF | G34: 240
A35: TP TL-SG1005M 5口 千兆交换机 | B35: 68 | F35: TL-IPC544T-WBW | G35: 268
A36: TP TL-SG1008M 8口 千兆交换机 | B36: 98 | F36: 水星MIPC3286W-4 | G36: 95
A37: TP TL-SG1005D 5口 千兆铁壳交换机 | B37: 81 | F37: 水星MIPC4286W-4 400万 全彩无线云台球机 TF | G37: 105
A38: TP TL-SG1008D 8口 千兆铁壳交换机 | B38: 105 | F38: 水星MIPC428PW-4 400万 POE全彩云台球机 TF | G38: 105
A39: TL-SF1016D 16口铁壳交换机 | B39: 175 | F39: 水星MIPC424PW-4 400万 POE枪机 | G39: 82
A40: TL-SF1024D 24口铁壳交换机 | B40: 215
...

Sheet 4主机成本表
A1: 本报价表为同行批发报价，零售一律加200-400保修&人工服务费
A2: 12代销量明星机型 | H2: 12代销量明星机型
A3: 产品类别 | B3: 型号 | C3: 单价 | D3: 数量 | E3: 总价 | F3: 保修时间 | H3: 产品类别 | I3: 型号 | J3: 单价 | K3: 数量 | L3: 总价 | M3: 保修时间
A4: CPU | B4: ='1三大件主板'!A19 -> 酷睿I3 12100 | C4: ='1三大件主板'!B19 -> 623 | D4: 1 | E4: =D4*C4 -> 623 | F4: 3年质保 | H4: CPU | I4: =B4 -> 酷睿I3 12100 | J4: =C4 -> 623 | K4: 1 | L4: =J4*K4 -> 623 | M4: 3年质保
A5: 散热器 | B5: ='2显示器机箱电源'!A54 -> 酷冷至尊 飞鹰/三平台 | C5: 17 | D5: 1 | E5: =D5*C5 -> 17 | F5: 3年质保 | H5: 散热器 | I5: ='2显示器机箱电源'!A54 -> 酷冷至尊 飞鹰/三平台 | J5: ='2显示器机箱电源'!B54 -> 17 | K5: 1 | L5: =J5*K5 -> 17 | M5: 3年质保
A6: 内存 | B6: ='1三大件主板'!D8 -> 金士顿8G DDR4 3200 | C6: ='1三大件主板'!E8 -> 95 | D6: 1 | E6: =D6*C6 -> 95 | F6: 3年质保 | H6: 内存 | I6: ='1三大件主板'!D17 -> 雷克沙-8G 3200 D4 台式机 | J6: ='1三大件主板'!E17 -> 90 | K6: 1 | L6: =J6*K6 -> 90 | M6: 3年质保
A7: 固态硬盘 | B7: ='1三大件主板'!D29 -> 雷克沙 NM620 Pro 512G M.2 NVME(3300M/S) | C7: ='1三大件主板'!E29 -> 235 | D7: 1 | E7: =D7*C7 -> 235 | F7: 5年换新 | H7: 固态硬盘 | I7: ='1三大件主板'!D31 -> 0 | J7: ='1三大件主板'!E31 -> 0 | K7: 1 | L7: =J7*K7 -> 0 | M7: 3年质保
A8: 主板 | B8: ='1三大件主板'!G21 -> 技嘉H610M H (HDMI+VGA) | C8: ='1三大件主板'!H21 -> 460 | D8: 1 | E8: =D8*C8 -> 460 | F8: 3年质保 | H8: 主板 | I8: ='1三大件主板'!G19 -> 技嘉H610M S2 (VGA) | J8: ='1三大件主板'!H19 -> 440 | K8: 1 | L8: =J8*K8 -> 440 | M8: 3年质保
A9: 机箱 | B9: USB2.0機箱 | C9: 50 | D9: 1 | E9: 50 | F9: 3年质保 | H9: 机箱 | I9: USB2.0機箱 | J9: 50 | K9: 1 | L9: =J9*K9 -> 50 | M9: 3年质保
A10: 电源 | B10: ='2显示器机箱电源'!A20 -> 长城ATX-3002 额定220W 宽辐 | C10: ='2显示器机箱电源'!B20 -> 80 | D10: 1 | E10: =D10*C10 -> 80 | F10: 3年质保 | H10: 电源 | I10: =B10 -> 长城ATX-3002 额定220W 宽辐 | J10: =C10 -> 80 | K10: 1 | L10: =J10*K10 -> 80 | M10: 3年质保
A11: 显示器 | B11: ='2显示器机箱电源'!D8 -> HKC V2411SE 23.8黑色无边框VGA | C11: ='2显示器机箱电源'!E8 -> 375 | D11: 1 | E11: =D11*C11 -> 375 | F11: 3年质保
A12: 键盘鼠标 | B12: MK100 | C12: 35 | D12: 1 | E12: 35 | F12: 1年质保
A13: 其它 | B13: 电源线+鼠标垫 | E13: 6 | H13: 其它 | I13: 电源线+鼠标垫
B14: 保修&人工服务费 | I14: 保修&人工服务费&税
A15: =TODAY() -> 45584 | B15: 合计 | E15: =SUM(E4:E14) -> 1976 | F15: 元 | H15: =TODAY() -> 45584 | I15: 合计 | L15: =SUM(L4:L14) -> 1300 | M15: 元
A17: 12代001号电脑主机 热销主流家用办公电脑 | H17: 12代002号电脑主机 主流游戏视频处理电脑
A18: 产品类别 | B18: 型号 | C18: 单价 | D18: 数量 | E18: 总价 | F18: 保修时间 | H18: 产品类别 | I18: 型号 | J18: 单价 | K18: 数量 | L18: 总价 | M18: 保修时间
A19: CPU | B19: ='1三大件主板'!A19 -> 酷睿I3 12100 | C19: ='1三大件主板'!B19 -> 623 | D19: 1 | E19: =C19*D19 -> 623 | F19: 3年拆机 | H19: CPU | I19: ='1三大件主板'!A22 -> I5 12400 | J19: ='1三大件主板'!B22 -> 775 | K19: 1 | L19: =J19*K19 -> 775 | M19: 3年质保
A20: 散热器 | B20: ='2显示器机箱电源'!A54 -> 酷冷至尊 飞鹰/三平台 | C20: ='2显示器机箱电源'!B54 -> 17 | D20: 1 | E20: =C20*D20 -> 17 | F20: 3年质保 | H20: 散热器 | I20: 四热管散热器 | J20: 60 | K20: 1 | L20: =J20*K20 -> 60 | M20: 3年质保
A21: 内存 | B21: ='1三大件主板'!D17 -> 雷克沙-8G 3200 D4 台式机 | C21: ='1三大件主板'!E17 -> 90 | D21: 1 | E21: =C21*D21 -> 90 | F21: 3年质保 | H21: 内存 | I21: ='1三大件主板'!D11 -> 金士顿16G DDR4 3200 | J21: ='1三大件主板'!E11 -> 139 | K21: 1 | L21: =J21*K21 -> 139 | M21: 3年质保
A22: 固态硬盘 | B22: ='1三大件主板'!D28 -> 雷克沙 NM620 Pro 256G M.2 NVME(3300M/S) | C22: ='1三大件主板'!E28 -> 150 | D22: 1 | E22: =C22*D22 -> 150 | F22: 3年质保 | H22: 固态硬盘 | I22: ='1三大件主板'!D55 -> 金士顿NV2 1T M.2 NVME * | J22: ='1三大件主板'!E55 -> 335 | K22: 1 | L22: =J22*K22 -> 335 | M22: 3年质保
A23: 主板 | B23: ='1三大件主板'!G56 -> 影驰H610M | C23: ='1三大件主板'!H56 -> 385 | D23: 1 | E23: =C23*D23 -> 385 | F23: 3年质保 | H23: 主板 | I23: ='1三大件主板'!G21 -> 技嘉H610M H (HDMI+VGA) | J23: ='1三大件主板'!H21 -> 460 | K23: 1 | L23: =J23*K23 -> 460 | M23: 3年质保
A24: 机箱 | B24: USB2.0机箱 | C24: 50 | D24: 1 | E24: =C24*D24 -> 50 | F24: 3年质保 | H24: 机箱 | I24: 长城机箱 | J24: 63 | K24: 1 | L24: =J24*K24 -> 63 | M24: 3年质保
A25: 电源 | B25: ='2显示器机箱电源'!A22 -> 长城ATX-3002 额定220W 宽辐 | C25: ='2显示器机箱电源'!B22 -> 80 | D25: 1 | E25: =C25*D25 -> 80 | F25: 3年质保 | H25: 电源 | I25: ='2显示器机箱电源'!A25 -> 长城400SD静音大师300W-400W | J25: ='2显示器机箱电源'!B25 -> 125 | K25: 1 | L25: =J25*K25 -> 125 | M25: 3年质保
A26: 其它 | B26: 电源线+鼠标垫 | E26: 6 | H26: 其它 | I26: 电源线+鼠标垫
B28: 保修&人工服务费 | I28: 保修&人工服务费
A29: =TODAY() -> 45584 | B29: 合计 | E29: =SUM(E19:E28) -> 1401 | F29: 元 | H29: =TODAY() -> 45584 | I29: 合计 | L29: =SUM(L19:L28) -> 1957 | M29: 元
A31: 12代 吃鸡 黑悟空电脑主机 | H31: 12代004号电脑主机 高档英雄联盟主机
A32: 产品类别 | B32: 型号 | C32: 单价 | D32: 数量 | E32: 总价 | F32: 保修时间 | H32: 产品类别 | I32: 型号 | J32: 单价 | K32: 数量 | L32: 总价 | M32: 保修时间
A33: CPU | B33: ='1三大件主板'!A21 -> 酷睿12 I5 12400F | C33: ='1三大件主板'!B21 -> 625 | D33: 1 | E33: =D33*C33 -> 625 | F33: 3年质保 | H33: CPU | I33: ='1三大件主板'!A20 -> 酷睿I3 12100F | J33: ='1三大件主板'!B20 -> 350 | K33: 1 | L33: =J33*K33 -> 350 | M33: 3年质保
A34: 散热器 | B34: 四热管散热器 | C34: 60 | D34: 1 | E34: =C34*D34 -> 60 | F34: 3年质保 | H34: 散热器 | I34: ='2显示器机箱电源'!A54 -> 酷冷至尊 飞鹰/三平台 | J34: ='2显示器机箱电源'!B54 -> 17 | K34: 1 | L34: =J34*K34 -> 17 | M34: 3年质保
A35: 内存 | B35: ='1三大件主板'!D13 -> 金士顿16G DDR4 3600神条 | C35: ='1三大件主板'!E13 -> 205 | D35: 1 | E35: =D35*C35 -> 205 | F35: 3年质保 | H35: 内存 | I35: =B35 -> 金士顿16G DDR4 3600神条 | J35: =C35 -> 205 | K35: 1 | L35: =J35*K35 -> 205 | M35: 3年质保
A36: 固态硬盘 | B36: ='1三大件主板'!D54 -> 金士顿NV2 500G M.2 NVME * | C36: ='1三大件主板'!E54 -> 235 | D36: 1 | E36: =D36*C36 -> 235 | F36: 3年质保 | H36: 固态硬盘 | I36: =B36 -> 金士顿NV2 500G M.2 NVME * | J36: =C36 -> 235 | K36: 1 | L36: =J36*K36 -> 235 | M36: 3年质保
A37: 主板 | B37: ='1三大件主板'!G16 -> 技嘉B760M-D2H DDR4 | C37: ='1三大件主板'!H16 -> 610 | D37: 1 | E37: =D37*C37 -> 610 | F37: 3年质保 | H37: 主板 | I37: =B37 -> 技嘉B760M-D2H DDR4 | J37: =C37 -> 610 | K37: 1 | L37: =J37*K37 -> 610 | M37: 3年质保
A38: 机箱 | B38: 玩嘉侧透机箱 | C38: 98 | D38: 1 | E38: =D38*C38 -> 98 | F38: 3年质保 | H38: 机箱 | I38: =B38 -> 玩嘉侧透机箱 | J38: =C38 -> 98 | K38: 1 | L38: =J38*K38 -> 98 | M38: 3年质保
A39: 电源 | B39: ='2显示器机箱电源'!A30 -> 长城额定650W | C39: ='2显示器机箱电源'!B30 -> 280 | D39: 1 | E39: =D39*C39 -> 280 | F39: 3年质保 | H39: 电源 | I39: ='2显示器机箱电源'!A28 -> 长城GW-600ZN静音 500-600W | J39: ='2显示器机箱电源'!B28 -> 205 | K39: 1 | L39: =J39*K39 -> 205 | M39: 3年质保
A40: 显卡 | B40: ='2显示器机箱电源'!G25 -> 影驰RTX4060大将 白色双风扇 现货 | C40: ='2显示器机箱电源'!H25 -> 0 | D40: 1 | E40: =D40*C40 -> 0 | H40: 显卡 | I40: ='2显示器机箱电源'!G42 -> 铭鍹GT1050Ti 4G | J40: ='2显示器机箱电源'!H42 -> 735 | K40: 1 | L40: =J40*K40 -> 735
A41: 其它 | B41: 电源线+鼠标垫 | E41: 6 | H41: 其它 | I41: 电源线+鼠标垫 | L41: 6
B42: 保修&人工服务费 | I42: 保修&人工服务费
A43: =TODAY() -> 45584 | B43: 合计 | E43: =SUM(E33:E42) -> 2119 | F43: 元 | H43: =TODAY() -> 45584 | I43: 合计 | L43: =SUM(L33:L42) -> 2461 | M43: 元
...

Sheet 5整机成本表
A1: 本报价表为同行批发报价，零售一律加200-400保修&人工服务费
A2: 12代销量明星机型 | H2: 12代销量明星机型
A3: 产品类别 | B3: 型号 | C3: 单价 | D3: 数量 | E3: 总价 | F3: 保修时间 | H3: 产品类别 | I3: 型号 | J3: 单价 | K3: 数量 | L3: 总价 | M3: 保修时间
A4: CPU | B4: ='1三大件主板'!A28 -> 酷睿I7 12700KF | C4: ='1三大件主板'!B28 -> 1450 | D4: 1 | E4: =D4*C4 -> 1450 | F4: 3年质保 | H4: CPU | I4: ='1三大件主板'!A22 -> I5 12400 | J4: ='1三大件主板'!B22 -> 775 | K4: 1 | L4: =J4*K4 -> 775 | M4: 1年质保
A5: 散热器 | B5: ='2显示器机箱电源'!A58 -> 酷冷至尊 T620S 六热管 | C5: ='2显示器机箱电源'!B58 -> 160 | D5: 1 | E5: =D5*C5 -> 160 | F5: 3年质保 | H5: 散热器 | I5: =B5 -> 酷冷至尊 T620S 六热管 | J5: 60 | K5: 1 | L5: =J5*K5 -> 60 | M5: 3年质保
A6: 内存 | B6: ='1三大件主板'!D13 -> 金士顿16G DDR4 3600神条 | C6: ='1三大件主板'!E13 -> 205 | D6: 2 | E6: =D6*C6 -> 410 | F6: 3年质保 | H6: 内存 | I6: =B6 -> 金士顿16G DDR4 3600神条 | J6: =C6 -> 205 | K6: 1 | L6: =J6*K6 -> 205 | M6: 3年质保
A7: 固态硬盘 | B7: ='1三大件主板'!D33 -> 雷克沙 NQ790 1TB M.2 NVME(PCIe 4.0/7000M/S)电商专供 | C7: ='1三大件主板'!E33 -> 415 | D7: 1 | E7: =D7*C7 -> 415 | F7: 3年质保
A8: 主板 | B8: 微星MAG B760M MORTAR WIFIII DDR5 | C8: 1100 | D8: 1 | E8: =D8*C8 -> 1100 | F8: 3年质保 | H8: 主板 | I8: ='1三大件主板'!G21 -> 技嘉H610M H (HDMI+VGA) | J8: ='1三大件主板'!H21 -> 460 | K8: 1 | L8: =J8*K8 -> 460 | M8: 3年质保
A9: 机箱 | B9: 玩嘉侧透机箱 | C9: 135 | D9: 1 | E9: =D9*C9 -> 135 | F9: 3年质保 | H9: 机箱 | I9: USB2.0机箱 | J9: 55 | K9: 1 | L9: =J9*K9 -> 55 | M9: 3年质保 | O9: .
A10: 显卡 | B10: ='2显示器机箱电源'!G25 -> 影驰RTX4060大将 白色双风扇 现货 | C10: ='2显示器机箱电源'!H25 -> 0 | D10: 1 | E10: =D10*C10 -> 0 | F10: 3年质保
A11: 电源 | B11: ='2显示器机箱电源'!A30 -> 长城额定650W | C11: ='2显示器机箱电源'!B30 -> 280 | D11: 1 | E11: =D11*C11 -> 280 | F11: 3年质保 | H11: 电源 | I11: ='2显示器机箱电源'!A20 -> 长城ATX-3002 额定220W 宽辐 | J11: ='2显示器机箱电源'!B20 -> 80 | K11: 1 | L11: =J11*K11 -> 80 | M11: 3年质保
A12: 显示器 | B12: AOC Q27E12 2K 27寸 | C12: 810 | D12: 1 | E12: 810 | F12: 3年质保 | H12: 显示器 | I12: ='2显示器机箱电源'!D9 -> HKC S24M 23.8无边 VGA+HDMI | J12: ='2显示器机箱电源'!E9 -> 389 | K12: 1 | L12: =J12*K12 -> 389 | M12: 3年质保
A13: 键盘鼠标 | B13: 罗技MK120 | C13: 68 | D13: 1 | E13: 68 | F13: 1年质保
A14: 散热 | B14: 机箱风扇 | C14: 18 | D14: 1 | E14: 18 | F14: 1年质保
A18: =TODAY() -> 45584 | B18: 合计 | E18: =SUM(E4:E17) -> 4846 | F18: 元 | H18: =TODAY() -> 45584 | I18: 合计 | L18: =SUM(L4:L16) -> 2024 | M18: 元
A20: 10代销量明星机型 | H20: 10代销量明星机型
A21: 产品类别 | B21: 型号 | C21: 单价 | D21: 数量 | E21: 总价 | F21: 保修时间 | H21: 产品类别 | I21: 型号 | J21: 单价 | K21: 数量 | L21: 总价 | M21: 保修时间
A22: CPU | B22: ='1三大件主板'!A21 -> 酷睿12 I5 12400F | C22: ='1三大件主板'!B21 -> 625 | D22: 1 | E22: =D22*C22 -> 625 | F22: 3年质保 | H22: CPU | I22: ='1三大件主板'!A37 -> 英特尔I3-10105F | J22: ='1三大件主板'!B37 -> 353 | K22: 1 | L22: =J22*K22 -> 353 | M22: 1年质保
A23: 散热器 | B23: 4热管散热器 | C23: 55 | D23: 1 | E23: =D23*C23 -> 55 | F23: 3年质保 | H23: 散热器 | I23: 散热器 | J23: 17 | K23: 1 | L23: =J23*K23 -> 17 | M23: 3年质保
A24: 内存 | B24: 金士顿16G DDR4 | C24: ='1三大件主板'!E11 -> 139 | D24: 1 | E24: =D24*C24 -> 139 | F24: 3年质保 | H24: 内存 | I24: ='1三大件主板'!D17 -> 雷克沙-8G 3200 D4 台式机 | J24: ='1三大件主板'!E17 -> 90 | K24: 1 | L24: =J24*K24 -> 90 | M24: 3年质保
A25: 固态硬盘 | B25: ='1三大件主板'!D31 -> 0 | C25: ='1三大件主板'!E31 -> 0 | D25: 1 | E25: =D25*C25 -> 0 | F25: 3年质保 | H25: 固态硬盘 | I25: ='1三大件主板'!D39 -> 昂达 256G固态硬盘 | J25: ='1三大件主板'!E39 -> 100 | K25: 1 | L25: =J25*K25 -> 100 | M25: 3年质保
A26: 主板 | B26: ='1三大件主板'!G21 -> 技嘉H610M H (HDMI+VGA) | C26: ='1三大件主板'!H21 -> 460 | D26: 1 | E26: =D26*C26 -> 460 | F26: 3年质保 | H26: 主板 | I26: ='1三大件主板'!G53 -> 影驰H410M 能装WIN7 | J26: ='1三大件主板'!H53 -> 340 | K26: 1 | L26: =J26*K26 -> 340 | M26: 3年质保
A27: 机箱 | B27: 长城机箱 | C27: 63 | D27: 1 | E27: =D27*C27 -> 63 | F27: 3年质保 | H27: 机箱 | I27: USB2.0机箱 | J27: 55 | K27: 1 | L27: =J27*K27 -> 55 | M27: 3年质保
A28: 电源 | B28: 长城400SD | C28: 130 | D28: 1 | E28: =D28*C28 -> 130 | F28: 3年质保 | H28: 电源 | I28: ='2显示器机箱电源'!A20 -> 长城ATX-3002 额定220W 宽辐 | J28: ='2显示器机箱电源'!B20 -> 80 | K28: 1 | L28: =J28*K28 -> 80 | M28: 3年质保
A29: 显卡 | B29: ='2显示器机箱电源'!G5 -> 七彩虹GTX1030 黄金版 4G | C29: ='2显示器机箱电源'!H5 -> 445 | D29: 1 | E29: =D29*C29 -> 445 | F29: 3年质保 | H29: 显卡 | I29: =B29 -> 七彩虹GTX1030 黄金版 4G | J29: ='2显示器机箱电源'!H31 -> 205 | K29: 1 | L29: =J29*K29 -> 205 | M29: 3年质保
A30: 显示器 | B30: ='2显示器机箱电源'!D8 -> HKC V2411SE 23.8黑色无边框VGA | C30: ='2显示器机箱电源'!E8 -> 375 | D30: 1 | E30: =D30*C30 -> 375 | F30: 3年质保 | H30: 显示器 | I30: =B30 -> HKC V2411SE 23.8黑色无边框VGA | J30: =C30 -> 375 | K30: 1 | L30: =J30*K30 -> 375 | M30: 3年质保
A31: 键盘鼠标 | B31: MK100 | C31: 35 | D31: 1 | E31: 35 | F31: 1年质保 | H31: 键盘鼠标 | I31: MK100 | J31: 35 | K31: 1 | L31: 35
A32: 其它 | B32: 电源线+鼠标垫 | E32: 6 | H32: 其它 | I32: 电源线+鼠标垫 | L32: 6
B33: 保修&人工服务费 | E33: 200 | I33: 保修&人工服务费
A34: =TODAY() -> 45584 | B34: 合计 | E34: =SUM(E22:E33) -> 2533 | F34: 元 | H34: =TODAY() -> 45584 | I34: 合计 | L34: =SUM(L22:L33) -> 1656 | M34: 元
A36: 4代销量明星机型 | H36: 4代销量明星机型
A37: 产品类别 | B37: 型号 | C37: 单价 | D37: 数量 | E37: 总价 | F37: 保修时间 | H37: 产品类别 | I37: 型号 | J37: 单价 | K37: 数量 | L37: 总价 | M37: 保修时间
A38: CPU | B38: ='1三大件主板'!A71 -> INTEL I3-4170 3.7G 1150 | C38: ='1三大件主板'!B71 -> 26 | D38: 1 | E38: =D38*C38 -> 26 | F38: 1年拆机 | H38: CPU | I38: ='1三大件主板'!A72 -> INTEL I5 4590 3.3G | J38: ='1三大件主板'!B72 -> 118 | K38: 1 | L38: =J38*K38 -> 118 | M38: 1年拆机
A39: 散热器 | B39: 静音散热器 | C39: 17 | D39: 1 | E39: =D39*C39 -> 17 | F39: 3年质保 | H39: 散热器 | I39: =B39 -> 静音散热器 | J39: =C39 -> 17 | K39: 1 | L39: =J39*K39 -> 17 | M39: 3年质保
A40: 内存 | B40: ='1三大件主板'!D22 -> 昂达 8G DDR3 1600 | C40: ='1三大件主板'!E22 -> 38 | D40: 1 | E40: =D40*C40 -> 38 | F40: 3年质保 | H40: 内存 | I40: =B40 -> 昂达 8G DDR3 1600 | J40: =C40 -> 38 | K40: 1 | L40: =J40*K40 -> 38 | M40: 3年质保
A41: 固态硬盘 | B41: ='1三大件主板'!D34 -> 七彩虹SL300 128G | C41: ='1三大件主板'!E34 -> 78 | D41: 1 | E41: =D41*C41 -> 78 | F41: 3年质保 | H41: 固态硬盘 | I41: =B41 -> 七彩虹SL300 128G | J41: =C41 -> 78 | K41: 1 | L41: =J41*K41 -> 78 | M41: 3年质保
A42: 主板 | B42: ='1三大件主板'!G48 -> 升技H81M | C42: ='1三大件主板'!H48 -> 225 | D42: 1 | E42: =D42*C42 -> 225 | F42: 3年质保 | H42: 主板 | I42: =B42 -> 升技H81M | J42: =C42 -> 225 | K42: 1 | L42: =J42*K42 -> 225 | M42: 3年质保
A43: 机箱 | B43: USB2.0机箱 | C43: 55 | D43: 1 | E43: =D43*C43 -> 55 | F43: 3年质保 | H43: 机箱 | I43: =B43 -> USB2.0机箱 | J43: =C43 -> 55 | K43: 1 | L43: =J43*K43 -> 55 | M43: 3年质保
A44: 电源 | B44: ='2显示器机箱电源'!A20 -> 长城ATX-3002 额定220W 宽辐 | C44: ='2显示器机箱电源'!B20 -> 80 | D44: 1 | E44: =D44*C44 -> 80 | F44: 3年质保 | H44: 电源 | I44: =B44 -> 长城ATX-3002 额定220W 宽辐 | J44: =C44 -> 80 | K44: 1 | L44: =J44*K44 -> 80 | M44: 3年质保
A45: 显示器 | B45: ='2显示器机箱电源'!D7 -> HKC V2210 21.5 | C45: ='2显示器机箱电源'!E7 -> 320 | D45: 1 | E45: =D45*C45 -> 320 | F45: 3年质保 | H45: =A45 -> 显示器 | I45: =B45 -> HKC V2210 21.5 | J45: =C45 -> 320 | K45: =D45 -> 1 | L45: =E45 -> 320 | M45: =F45 -> 3年质保
...
